Package: nullranges
Version: 1.11.0
Command: C:\Users\biocbuild\bbs-3.20-bioc\R\bin\R.exe CMD INSTALL nullranges
StartedAt: 2024-07-15 15:37:17 -0400 (Mon, 15 Jul 2024)
EndedAt: 2024-07-15 15:38:01 -0400 (Mon, 15 Jul 2024)
EllapsedTime: 44.5 seconds
RetCode: 0
Status: OK