Package: occugene Version: 1.66.0 Command: rm -rf occugene.buildbin-libdir && mkdir occugene.buildbin-libdir && /Users/biocbuild/BBS/utils/build-universal.sh occugene_1.66.0.tar.gz /Library/Frameworks/R.framework/Resources/bin/R occugene.buildbin-libdir StartedAt: 2025-02-05 16:58:51 -0500 (Wed, 05 Feb 2025) EndedAt: 2025-02-05 16:58:56 -0500 (Wed, 05 Feb 2025) EllapsedTime: 4.4 seconds RetCode: 0 Status: OK PackageFile: occugene_1.66.0.tgz PackageFileSize: 252.5 KiB