Package: occugene Version: 1.66.0 Command: rm -rf occugene.buildbin-libdir && mkdir occugene.buildbin-libdir && /Users/biocbuild/BBS/utils/build-universal.sh occugene_1.66.0.tar.gz /Library/Frameworks/R.framework/Resources/bin/R occugene.buildbin-libdir StartedAt: 2025-02-04 13:39:36 -0500 (Tue, 04 Feb 2025) EndedAt: 2025-02-04 13:39:44 -0500 (Tue, 04 Feb 2025) EllapsedTime: 8.3 seconds RetCode: 0 Status: OK PackageFile: occugene_1.66.0.tgz PackageFileSize: 252.8 KiB