Package: occugene Version: 1.66.0 Command: /Library/Frameworks/R.framework/Resources/bin/R CMD check --install=check:occugene.install-out.txt --library=/Library/Frameworks/R.framework/Resources/library --no-vignettes --timings occugene_1.66.0.tar.gz StartedAt: 2025-02-04 07:22:40 -0500 (Tue, 04 Feb 2025) EndedAt: 2025-02-04 07:23:23 -0500 (Tue, 04 Feb 2025) EllapsedTime: 43.6 seconds RetCode: 0 Status: OK CheckDir: occugene.Rcheck Warnings: 0