Package: occugene Version: 1.66.0 Command: /Library/Frameworks/R.framework/Resources/bin/R CMD INSTALL occugene StartedAt: 2025-02-03 15:16:21 -0500 (Mon, 03 Feb 2025) EndedAt: 2025-02-03 15:16:55 -0500 (Mon, 03 Feb 2025) EllapsedTime: 34.5 seconds RetCode: 0 Status: OK