Package: occugene Version: 1.66.0 Command: rm -rf occugene.buildbin-libdir && mkdir occugene.buildbin-libdir && F:\biocbuild\bbs-3.20-bioc\R\bin\R.exe CMD INSTALL --build --library=occugene.buildbin-libdir occugene_1.66.0.tar.gz StartedAt: 2025-02-04 09:05:18 -0500 (Tue, 04 Feb 2025) EndedAt: 2025-02-04 09:05:35 -0500 (Tue, 04 Feb 2025) EllapsedTime: 16.6 seconds RetCode: 0 Status: OK PackageFile: occugene_1.66.0.zip PackageFileSize: 159.8 KiB