Package: octad
Version: 1.8.0
Command: rm -rf octad.buildbin-libdir && mkdir octad.buildbin-libdir && F:\biocbuild\bbs-3.20-bioc\R\bin\R.exe CMD INSTALL --build --library=octad.buildbin-libdir octad_1.8.0.tar.gz
StartedAt: 2025-02-18 08:41:18 -0500 (Tue, 18 Feb 2025)
EndedAt: 2025-02-18 08:42:22 -0500 (Tue, 18 Feb 2025)
EllapsedTime: 64.9 seconds
RetCode: 0
Status: OK
PackageFile: octad_1.8.0.zip
PackageFileSize: 1.256 <A href="http://en.wikipedia.org/wiki/MiB" target="_blank">MiB</A>