Package: octad Version: 1.8.0 Command: /home/biocbuild/R/R/bin/R CMD check --install=check:octad.install-out.txt --library=/home/biocbuild/R/R/site-library --no-vignettes --timings octad_1.8.0.tar.gz StartedAt: 2025-02-04 09:28:00 -0000 (Tue, 04 Feb 2025) EndedAt: 2025-02-04 09:39:23 -0000 (Tue, 04 Feb 2025) EllapsedTime: 683.3 seconds RetCode: 0 Status: OK CheckDir: octad.Rcheck Warnings: 0