Package: odseq Version: 1.34.0 Command: /Library/Frameworks/R.framework/Resources/bin/R CMD check --install=check:odseq.install-out.txt --library=/Library/Frameworks/R.framework/Resources/library --no-vignettes --timings odseq_1.34.0.tar.gz StartedAt: 2025-02-05 04:10:58 -0500 (Wed, 05 Feb 2025) EndedAt: 2025-02-05 04:13:36 -0500 (Wed, 05 Feb 2025) EllapsedTime: 157.3 seconds RetCode: 0 Status: OK CheckDir: odseq.Rcheck Warnings: 0