Package: odseq
Version: 1.34.0
Command: /home/biocbuild/R/R/bin/R CMD check --install=check:odseq.install-out.txt --library=/home/biocbuild/R/R/site-library --no-vignettes --timings odseq_1.34.0.tar.gz
StartedAt: 2024-11-20 10:35:33 -0000 (Wed, 20 Nov 2024)
EndedAt: 2024-11-20 10:38:25 -0000 (Wed, 20 Nov 2024)
EllapsedTime: 172.3 seconds
RetCode: 0
Status: OK
CheckDir: odseq.Rcheck
Warnings: 0