Package: odseq Version: 1.34.0 Command: /Library/Frameworks/R.framework/Resources/bin/R CMD build --keep-empty-dirs --no-resave-data odseq StartedAt: 2025-02-03 20:57:09 -0500 (Mon, 03 Feb 2025) EndedAt: 2025-02-03 20:58:21 -0500 (Mon, 03 Feb 2025) EllapsedTime: 72.7 seconds RetCode: 0 Status: OK PackageFile: odseq_1.34.0.tar.gz PackageFileSize: 229.6 KiB