Package: odseq Version: 1.34.0 Command: /home/biocbuild/bbs-3.20-bioc/R/bin/R CMD INSTALL odseq StartedAt: 2025-02-03 15:23:54 -0500 (Mon, 03 Feb 2025) EndedAt: 2025-02-03 15:24:08 -0500 (Mon, 03 Feb 2025) EllapsedTime: 14.7 seconds RetCode: 0 Status: OK