Package: odseq Version: 1.34.0 Command: /home/biocbuild/R/R/bin/R CMD INSTALL odseq StartedAt: 2025-02-03 20:37:36 -0000 (Mon, 03 Feb 2025) EndedAt: 2025-02-03 20:37:57 -0000 (Mon, 03 Feb 2025) EllapsedTime: 21.8 seconds RetCode: 0 Status: OK