Package: oligo Version: 1.70.0 Command: /Library/Frameworks/R.framework/Resources/bin/R CMD build --keep-empty-dirs --no-resave-data oligo StartedAt: 2025-01-31 04:44:24 -0500 (Fri, 31 Jan 2025) EndedAt: 2025-01-31 04:45:11 -0500 (Fri, 31 Jan 2025) EllapsedTime: 47.4 seconds RetCode: 0 Status: OK PackageFile: oligo_1.70.0.tar.gz PackageFileSize: 27.1 MiB