Package: oligo Version: 1.70.0 Command: /Library/Frameworks/R.framework/Resources/bin/R CMD check --install=check:oligo.install-out.txt --library=/Library/Frameworks/R.framework/Resources/library --no-vignettes --timings oligo_1.70.0.tar.gz StartedAt: 2025-02-01 03:30:35 -0500 (Sat, 01 Feb 2025) EndedAt: 2025-02-01 03:36:48 -0500 (Sat, 01 Feb 2025) EllapsedTime: 373.0 seconds RetCode: 0 Status: WARNINGS CheckDir: oligo.Rcheck Warnings: 4