Package: oligo Version: 1.70.0 Command: /Library/Frameworks/R.framework/Resources/bin/R CMD INSTALL oligo StartedAt: 2025-01-30 15:40:25 -0500 (Thu, 30 Jan 2025) EndedAt: 2025-01-30 15:41:05 -0500 (Thu, 30 Jan 2025) EllapsedTime: 40.6 seconds RetCode: 0 Status: OK