Package: oligo Version: 1.70.0 Command: /Library/Frameworks/R.framework/Resources/bin/R CMD check --install=check:oligo.install-out.txt --library=/Library/Frameworks/R.framework/Resources/library --no-vignettes --timings oligo_1.70.0.tar.gz StartedAt: 2025-01-31 07:27:51 -0500 (Fri, 31 Jan 2025) EndedAt: 2025-01-31 07:38:32 -0500 (Fri, 31 Jan 2025) EllapsedTime: 640.8 seconds RetCode: 0 Status: WARNINGS CheckDir: oligo.Rcheck Warnings: 4