Package: oligo Version: 1.70.0 Command: /Library/Frameworks/R.framework/Resources/bin/R CMD INSTALL oligo StartedAt: 2025-01-30 15:28:20 -0500 (Thu, 30 Jan 2025) EndedAt: 2025-01-30 15:29:39 -0500 (Thu, 30 Jan 2025) EllapsedTime: 79.6 seconds RetCode: 0 Status: OK