Package: oligo Version: 1.70.0 Command: /home/biocbuild/bbs-3.20-bioc/R/bin/R CMD check --install=check:oligo.install-out.txt --library=/home/biocbuild/bbs-3.20-bioc/R/site-library --timings oligo_1.70.0.tar.gz StartedAt: 2025-01-31 00:38:12 -0500 (Fri, 31 Jan 2025) EndedAt: 2025-01-31 00:43:18 -0500 (Fri, 31 Jan 2025) EllapsedTime: 306.3 seconds RetCode: 0 Status: WARNINGS CheckDir: oligo.Rcheck Warnings: 4