Package: oligo Version: 1.70.0 Command: chmod a+r oligo -R && F:\biocbuild\bbs-3.20-bioc\R\bin\R.exe CMD build --keep-empty-dirs --no-resave-data oligo StartedAt: 2025-01-30 20:37:20 -0500 (Thu, 30 Jan 2025) EndedAt: 2025-01-30 20:38:37 -0500 (Thu, 30 Jan 2025) EllapsedTime: 76.9 seconds RetCode: 0 Status: OK PackageFile: oligo_1.70.0.tar.gz PackageFileSize: 27.1 MiB