Package: oligo Version: 1.70.0 Command: F:\biocbuild\bbs-3.20-bioc\R\bin\R.exe CMD INSTALL oligo StartedAt: 2025-01-30 15:58:37 -0500 (Thu, 30 Jan 2025) EndedAt: 2025-01-30 16:00:16 -0500 (Thu, 30 Jan 2025) EllapsedTime: 99.8 seconds RetCode: 0 Status: OK