Package: oligo Version: 1.70.0 Command: /home/biocbuild/R/R/bin/R CMD check --install=check:oligo.install-out.txt --library=/home/biocbuild/R/R/site-library --no-vignettes --timings oligo_1.70.0.tar.gz StartedAt: 2025-01-31 08:46:32 -0000 (Fri, 31 Jan 2025) EndedAt: 2025-01-31 08:46:39 -0000 (Fri, 31 Jan 2025) EllapsedTime: 7.0 seconds RetCode: 1 Status: ERROR CheckDir: oligo.Rcheck Warnings: NA