Package: omada Version: 1.8.0 Command: rm -rf omada.buildbin-libdir && mkdir omada.buildbin-libdir && /Users/biocbuild/BBS/utils/build-universal.sh omada_1.8.0.tar.gz /Library/Frameworks/R.framework/Resources/bin/R omada.buildbin-libdir StartedAt: 2025-02-05 16:59:45 -0500 (Wed, 05 Feb 2025) EndedAt: 2025-02-05 17:00:01 -0500 (Wed, 05 Feb 2025) EllapsedTime: 16.0 seconds RetCode: 0 Status: OK PackageFile: omada_1.8.0.tgz PackageFileSize: 303.3 KiB