Package: omada Version: 1.8.0 Command: /Library/Frameworks/R.framework/Resources/bin/R CMD build --keep-empty-dirs --no-resave-data omada StartedAt: 2025-02-04 04:53:30 -0500 (Tue, 04 Feb 2025) EndedAt: 2025-02-04 04:55:44 -0500 (Tue, 04 Feb 2025) EllapsedTime: 133.9 seconds RetCode: 0 Status: OK PackageFile: omada_1.8.0.tar.gz PackageFileSize: 201.3 KiB