Package: omada Version: 1.8.0 Command: /Library/Frameworks/R.framework/Resources/bin/R CMD check --install=check:omada.install-out.txt --library=/Library/Frameworks/R.framework/Resources/library --no-vignettes --timings omada_1.8.0.tar.gz StartedAt: 2025-02-05 04:15:59 -0500 (Wed, 05 Feb 2025) EndedAt: 2025-02-05 04:27:43 -0500 (Wed, 05 Feb 2025) EllapsedTime: 704.5 seconds RetCode: 0 Status: OK CheckDir: omada.Rcheck Warnings: 0