Package: omada Version: 1.8.0 Command: /Library/Frameworks/R.framework/Resources/bin/R CMD build --keep-empty-dirs --no-resave-data omada StartedAt: 2025-02-03 20:57:35 -0500 (Mon, 03 Feb 2025) EndedAt: 2025-02-03 21:01:06 -0500 (Mon, 03 Feb 2025) EllapsedTime: 210.5 seconds RetCode: 0 Status: OK PackageFile: omada_1.8.0.tar.gz PackageFileSize: 202.4 KiB