Package: omada Version: 1.8.0 Command: /Library/Frameworks/R.framework/Resources/bin/R CMD INSTALL omada StartedAt: 2025-02-03 16:18:06 -0500 (Mon, 03 Feb 2025) EndedAt: 2025-02-03 16:18:32 -0500 (Mon, 03 Feb 2025) EllapsedTime: 26.1 seconds RetCode: 0 Status: OK