Package: omicRexposome Version: 1.28.0 Command: /Library/Frameworks/R.framework/Resources/bin/R CMD build --keep-empty-dirs --no-resave-data omicRexposome StartedAt: 2025-02-04 04:54:38 -0500 (Tue, 04 Feb 2025) EndedAt: 2025-02-04 05:05:45 -0500 (Tue, 04 Feb 2025) EllapsedTime: 666.9 seconds RetCode: 0 Status: OK PackageFile: omicRexposome_1.28.0.tar.gz PackageFileSize: 2.606 MiB