Package: omicRexposome Version: 1.28.0 Command: /Library/Frameworks/R.framework/Resources/bin/R CMD check --install=check:omicRexposome.install-out.txt --library=/Library/Frameworks/R.framework/Resources/library --no-vignettes --timings omicRexposome_1.28.0.tar.gz StartedAt: 2025-02-05 04:20:47 -0500 (Wed, 05 Feb 2025) EndedAt: 2025-02-05 04:25:50 -0500 (Wed, 05 Feb 2025) EllapsedTime: 302.9 seconds RetCode: 0 Status: OK CheckDir: omicRexposome.Rcheck Warnings: 0