Package: omicRexposome Version: 1.28.0 Command: /Library/Frameworks/R.framework/Resources/bin/R CMD INSTALL omicRexposome StartedAt: 2025-02-03 16:33:27 -0500 (Mon, 03 Feb 2025) EndedAt: 2025-02-03 16:35:06 -0500 (Mon, 03 Feb 2025) EllapsedTime: 98.7 seconds RetCode: 0 Status: OK