Package: ompBAM Version: 1.10.0 Command: /Library/Frameworks/R.framework/Resources/bin/R CMD build --keep-empty-dirs --no-resave-data ompBAM StartedAt: 2025-02-04 04:57:28 -0500 (Tue, 04 Feb 2025) EndedAt: 2025-02-04 04:57:53 -0500 (Tue, 04 Feb 2025) EllapsedTime: 25.3 seconds RetCode: 0 Status: OK PackageFile: ompBAM_1.10.0.tar.gz PackageFileSize: 3.143 MiB