Package: ompBAM Version: 1.10.0 Command: /Library/Frameworks/R.framework/Resources/bin/R CMD check --install=check:ompBAM.install-out.txt --library=/Library/Frameworks/R.framework/Resources/library --no-vignettes --timings ompBAM_1.10.0.tar.gz StartedAt: 2025-02-05 04:25:43 -0500 (Wed, 05 Feb 2025) EndedAt: 2025-02-05 04:26:38 -0500 (Wed, 05 Feb 2025) EllapsedTime: 54.4 seconds RetCode: 0 Status: OK CheckDir: ompBAM.Rcheck Warnings: 0