Package: ompBAM Version: 1.10.0 Command: /home/biocbuild/bbs-3.20-bioc/R/bin/R CMD INSTALL ompBAM StartedAt: 2025-02-03 16:04:12 -0500 (Mon, 03 Feb 2025) EndedAt: 2025-02-03 16:04:14 -0500 (Mon, 03 Feb 2025) EllapsedTime: 2.0 seconds RetCode: 0 Status: OK