Package: oncomix Version: 1.28.0 Command: /Library/Frameworks/R.framework/Resources/bin/R CMD build --keep-empty-dirs --no-resave-data oncomix StartedAt: 2025-02-03 20:59:37 -0500 (Mon, 03 Feb 2025) EndedAt: 2025-02-03 21:01:04 -0500 (Mon, 03 Feb 2025) EllapsedTime: 87.0 seconds RetCode: 0 Status: OK PackageFile: oncomix_1.28.0.tar.gz PackageFileSize: 2.431 MiB