Package: oncomix Version: 1.28.0 Command: /Library/Frameworks/R.framework/Resources/bin/R CMD check --install=check:oncomix.install-out.txt --library=/Library/Frameworks/R.framework/Resources/library --no-vignettes --timings oncomix_1.28.0.tar.gz StartedAt: 2025-02-04 07:29:17 -0500 (Tue, 04 Feb 2025) EndedAt: 2025-02-04 07:34:41 -0500 (Tue, 04 Feb 2025) EllapsedTime: 324.4 seconds RetCode: 0 Status: OK CheckDir: oncomix.Rcheck Warnings: 0