Package: oncomix Version: 1.28.0 Command: /home/biocbuild/bbs-3.20-bioc/R/bin/R CMD check --install=check:oncomix.install-out.txt --library=/home/biocbuild/bbs-3.20-bioc/R/site-library --timings oncomix_1.28.0.tar.gz StartedAt: 2025-02-04 00:51:45 -0500 (Tue, 04 Feb 2025) EndedAt: 2025-02-04 00:54:36 -0500 (Tue, 04 Feb 2025) EllapsedTime: 171.2 seconds RetCode: 0 Status: OK CheckDir: oncomix.Rcheck Warnings: 0