Package: oncomix Version: 1.28.0 Command: chmod a+r oncomix -R && F:\biocbuild\bbs-3.20-bioc\R\bin\R.exe CMD build --keep-empty-dirs --no-resave-data oncomix StartedAt: 2025-02-03 20:54:41 -0500 (Mon, 03 Feb 2025) EndedAt: 2025-02-03 20:57:39 -0500 (Mon, 03 Feb 2025) EllapsedTime: 178.3 seconds RetCode: 0 Status: OK PackageFile: oncomix_1.28.0.tar.gz PackageFileSize: 1.687 MiB