Package: oncomix Version: 1.28.0 Command: F:\biocbuild\bbs-3.20-bioc\R\bin\R.exe CMD INSTALL oncomix StartedAt: 2025-02-03 16:19:00 -0500 (Mon, 03 Feb 2025) EndedAt: 2025-02-03 16:19:26 -0500 (Mon, 03 Feb 2025) EllapsedTime: 25.9 seconds RetCode: 0 Status: OK