Package: oncomix Version: 1.28.0 Command: /home/biocbuild/R/R/bin/R CMD INSTALL oncomix StartedAt: 2025-02-03 20:33:42 -0000 (Mon, 03 Feb 2025) EndedAt: 2025-02-03 20:34:10 -0000 (Mon, 03 Feb 2025) EllapsedTime: 27.8 seconds RetCode: 0 Status: OK