Package: oncoscanR Version: 1.8.0 Command: /Library/Frameworks/R.framework/Resources/bin/R CMD check --install=check:oncoscanR.install-out.txt --library=/Library/Frameworks/R.framework/Resources/library --no-vignettes --timings oncoscanR_1.8.0.tar.gz StartedAt: 2025-02-04 07:29:30 -0500 (Tue, 04 Feb 2025) EndedAt: 2025-02-04 07:45:01 -0500 (Tue, 04 Feb 2025) EllapsedTime: 931.0 seconds RetCode: 0 Status: OK CheckDir: oncoscanR.Rcheck Warnings: 0