Package: oncoscanR Version: 1.8.0 Command: /home/biocbuild/R/R/bin/R CMD build --keep-empty-dirs --no-resave-data oncoscanR StartedAt: 2025-02-04 01:34:37 -0000 (Tue, 04 Feb 2025) EndedAt: 2025-02-04 01:39:02 -0000 (Tue, 04 Feb 2025) EllapsedTime: 264.4 seconds RetCode: 0 Status: OK PackageFile: oncoscanR_1.8.0.tar.gz PackageFileSize: 1015 KiB