Package: ontoProc Version: 2.0.0 Command: /Library/Frameworks/R.framework/Resources/bin/R CMD build --keep-empty-dirs --no-resave-data ontoProc StartedAt: 2025-02-04 04:59:28 -0500 (Tue, 04 Feb 2025) EndedAt: 2025-02-04 05:05:22 -0500 (Tue, 04 Feb 2025) EllapsedTime: 353.9 seconds RetCode: 0 Status: OK PackageFile: ontoProc_2.0.0.tar.gz PackageFileSize: 12.98 MiB