Package: ontoProc
Version: 2.0.0
Command: /home/biocbuild/R/R/bin/R CMD build --keep-empty-dirs --no-resave-data ontoProc
StartedAt: 2025-02-18 01:30:35 -0000 (Tue, 18 Feb 2025)
EndedAt: 2025-02-18 01:42:00 -0000 (Tue, 18 Feb 2025)
EllapsedTime: 684.8 seconds
RetCode: 0
Status: OK
PackageFile: ontoProc_2.0.0.tar.gz
PackageFileSize: 13.03 <A href="http://en.wikipedia.org/wiki/MiB" target="_blank">MiB</A>