Package: ontoProc Version: 2.0.0 Command: /home/biocbuild/R/R/bin/R CMD check --install=check:ontoProc.install-out.txt --library=/home/biocbuild/R/R/site-library --no-vignettes --timings ontoProc_2.0.0.tar.gz StartedAt: 2025-02-04 09:32:57 -0000 (Tue, 04 Feb 2025) EndedAt: 2025-02-04 09:46:37 -0000 (Tue, 04 Feb 2025) EllapsedTime: 819.5 seconds RetCode: 1 Status: ERROR CheckDir: ontoProc.Rcheck Warnings: NA