Package: ontoProc Version: 2.0.0 Command: /home/biocbuild/R/R/bin/R CMD INSTALL ontoProc StartedAt: 2025-02-03 20:57:54 -0000 (Mon, 03 Feb 2025) EndedAt: 2025-02-03 20:58:34 -0000 (Mon, 03 Feb 2025) EllapsedTime: 40.3 seconds RetCode: 0 Status: OK