Package: openCyto Version: 2.18.0 Command: rm -rf openCyto.buildbin-libdir && mkdir openCyto.buildbin-libdir && /Users/biocbuild/BBS/utils/build-universal.sh openCyto_2.18.0.tar.gz /Library/Frameworks/R.framework/Resources/bin/R openCyto.buildbin-libdir StartedAt: 2025-02-01 16:05:59 -0500 (Sat, 01 Feb 2025) EndedAt: 2025-02-01 16:06:33 -0500 (Sat, 01 Feb 2025) EllapsedTime: 33.7 seconds RetCode: 0 Status: OK PackageFile: openCyto_2.18.0.tgz PackageFileSize: 2.703 MiB