Package: openCyto Version: 2.18.0 Command: /Library/Frameworks/R.framework/Resources/bin/R CMD check --install=check:openCyto.install-out.txt --library=/Library/Frameworks/R.framework/Resources/library --no-vignettes --timings openCyto_2.18.0.tar.gz StartedAt: 2025-02-01 03:46:17 -0500 (Sat, 01 Feb 2025) EndedAt: 2025-02-01 03:48:56 -0500 (Sat, 01 Feb 2025) EllapsedTime: 158.8 seconds RetCode: 0 Status: WARNINGS CheckDir: openCyto.Rcheck Warnings: 4