Package: openCyto Version: 2.18.0 Command: rm -rf openCyto.buildbin-libdir && mkdir openCyto.buildbin-libdir && /Users/biocbuild/BBS/utils/build-universal.sh openCyto_2.18.0.tar.gz /Library/Frameworks/R.framework/Resources/bin/R openCyto.buildbin-libdir StartedAt: 2025-01-31 13:19:44 -0500 (Fri, 31 Jan 2025) EndedAt: 2025-01-31 13:20:50 -0500 (Fri, 31 Jan 2025) EllapsedTime: 66.4 seconds RetCode: 0 Status: OK PackageFile: openCyto_2.18.0.tgz PackageFileSize: 2.702 MiB