Package: openCyto Version: 2.18.0 Command: /Library/Frameworks/R.framework/Resources/bin/R CMD check --install=check:openCyto.install-out.txt --library=/Library/Frameworks/R.framework/Resources/library --no-vignettes --timings openCyto_2.18.0.tar.gz StartedAt: 2025-01-31 07:35:17 -0500 (Fri, 31 Jan 2025) EndedAt: 2025-01-31 07:40:22 -0500 (Fri, 31 Jan 2025) EllapsedTime: 305.4 seconds RetCode: 0 Status: WARNINGS CheckDir: openCyto.Rcheck Warnings: 4