Package: openCyto Version: 2.18.0 Command: /home/biocbuild/bbs-3.20-bioc/R/bin/R CMD build --keep-empty-dirs --no-resave-data --md5 openCyto StartedAt: 2025-01-30 18:25:39 -0500 (Thu, 30 Jan 2025) EndedAt: 2025-01-30 18:26:45 -0500 (Thu, 30 Jan 2025) EllapsedTime: 66.1 seconds RetCode: 0 Status: OK PackageFile: openCyto_2.18.0.tar.gz PackageFileSize: 1.776 MiB